BEGIN:VCALENDAR
VERSION:2.0
PRODID:-//Centerville Church of Christ - ECPv6.15.20//NONSGML v1.0//EN
CALSCALE:GREGORIAN
METHOD:PUBLISH
X-WR-CALNAME:Centerville Church of Christ
X-ORIGINAL-URL:https://centervillechurchofchrist.org
X-WR-CALDESC:Events for Centerville Church of Christ
REFRESH-INTERVAL;VALUE=DURATION:PT1H
X-Robots-Tag:noindex
X-PUBLISHED-TTL:PT1H
BEGIN:VTIMEZONE
TZID:America/Chicago
BEGIN:DAYLIGHT
TZOFFSETFROM:-0600
TZOFFSETTO:-0500
TZNAME:CDT
DTSTART:20200308T080000
END:DAYLIGHT
BEGIN:STANDARD
TZOFFSETFROM:-0500
TZOFFSETTO:-0600
TZNAME:CST
DTSTART:20201101T070000
END:STANDARD
BEGIN:DAYLIGHT
TZOFFSETFROM:-0600
TZOFFSETTO:-0500
TZNAME:CDT
DTSTART:20210314T080000
END:DAYLIGHT
BEGIN:STANDARD
TZOFFSETFROM:-0500
TZOFFSETTO:-0600
TZNAME:CST
DTSTART:20211107T070000
END:STANDARD
BEGIN:DAYLIGHT
TZOFFSETFROM:-0600
TZOFFSETTO:-0500
TZNAME:CDT
DTSTART:20220313T080000
END:DAYLIGHT
BEGIN:STANDARD
TZOFFSETFROM:-0500
TZOFFSETTO:-0600
TZNAME:CST
DTSTART:20221106T070000
END:STANDARD
END:VTIMEZONE
BEGIN:VEVENT
DTSTART;VALUE=DATE:20211011
DTEND;VALUE=DATE:20211016
DTSTAMP:20260424T122047
CREATED:20210901T215559Z
LAST-MODIFIED:20210901T215559Z
UID:967-1633910400-1634342399@centervillechurchofchrist.org
SUMMARY:Fall Break
DESCRIPTION:
URL:https://centervillechurchofchrist.org/event/fall-break/
CATEGORIES:Day School
END:VEVENT
BEGIN:VEVENT
DTSTART;TZID=America/Chicago:20211030T150000
DTEND;TZID=America/Chicago:20211030T170000
DTSTAMP:20260424T122047
CREATED:20210825T152121Z
LAST-MODIFIED:20211028T145646Z
UID:812-1635606000-1635613200@centervillechurchofchrist.org
SUMMARY:Halloween Under The Hill
DESCRIPTION:**LOCATION CHANGE** Join us in the Bus Garage parking lot Saturday\, October 30th\, from 3:00-5:00 pm. Enjoy Trunk-or-Treat\, food\, activities\, and more.
URL:https://centervillechurchofchrist.org/event/halloween-on-the-hill/
LOCATION:Camp Meribah Lower Entrance
CATEGORIES:Main,Youth
ATTACH;FMTTYPE=image/png:https://centervillechurchofchrist.org/wp-content/uploads/typorama-3.png
END:VEVENT
END:VCALENDAR