BEGIN:VCALENDAR
VERSION:2.0
PRODID:-//Centerville Church of Christ - ECPv6.15.20//NONSGML v1.0//EN
CALSCALE:GREGORIAN
METHOD:PUBLISH
X-WR-CALNAME:Centerville Church of Christ
X-ORIGINAL-URL:https://centervillechurchofchrist.org
X-WR-CALDESC:Events for Centerville Church of Christ
REFRESH-INTERVAL;VALUE=DURATION:PT1H
X-Robots-Tag:noindex
X-PUBLISHED-TTL:PT1H
BEGIN:VTIMEZONE
TZID:America/Chicago
BEGIN:DAYLIGHT
TZOFFSETFROM:-0600
TZOFFSETTO:-0500
TZNAME:CDT
DTSTART:20200308T080000
END:DAYLIGHT
BEGIN:STANDARD
TZOFFSETFROM:-0500
TZOFFSETTO:-0600
TZNAME:CST
DTSTART:20201101T070000
END:STANDARD
BEGIN:DAYLIGHT
TZOFFSETFROM:-0600
TZOFFSETTO:-0500
TZNAME:CDT
DTSTART:20210314T080000
END:DAYLIGHT
BEGIN:STANDARD
TZOFFSETFROM:-0500
TZOFFSETTO:-0600
TZNAME:CST
DTSTART:20211107T070000
END:STANDARD
BEGIN:DAYLIGHT
TZOFFSETFROM:-0600
TZOFFSETTO:-0500
TZNAME:CDT
DTSTART:20220313T080000
END:DAYLIGHT
BEGIN:STANDARD
TZOFFSETFROM:-0500
TZOFFSETTO:-0600
TZNAME:CST
DTSTART:20221106T070000
END:STANDARD
END:VTIMEZONE
BEGIN:VEVENT
DTSTART;VALUE=DATE:20211101
DTEND;VALUE=DATE:20211102
DTSTAMP:20260424T104043
CREATED:20210901T215748Z
LAST-MODIFIED:20210901T215748Z
UID:969-1635724800-1635811199@centervillechurchofchrist.org
SUMMARY:No Day School - Professional Development
DESCRIPTION:
URL:https://centervillechurchofchrist.org/event/no-day-school-professional-development-2/
CATEGORIES:Day School
END:VEVENT
BEGIN:VEVENT
DTSTART;TZID=America/Chicago:20211101T080000
DTEND;TZID=America/Chicago:20211101T170000
DTSTAMP:20260424T104043
CREATED:20210901T140211Z
LAST-MODIFIED:20210901T140211Z
UID:887-1635753600-1635786000@centervillechurchofchrist.org
SUMMARY:No School (PT Conferences)
DESCRIPTION:
URL:https://centervillechurchofchrist.org/event/no-school-pt-conferences/
CATEGORIES:Youth
END:VEVENT
BEGIN:VEVENT
DTSTART;TZID=America/Chicago:20211103T080000
DTEND;TZID=America/Chicago:20211103T170000
DTSTAMP:20260424T104043
CREATED:20210901T140234Z
LAST-MODIFIED:20210901T140234Z
UID:889-1635926400-1635958800@centervillechurchofchrist.org
SUMMARY:Lighthouse (Bryce Hughes)
DESCRIPTION:
URL:https://centervillechurchofchrist.org/event/lighthouse-bryce-hughes/
CATEGORIES:Youth
END:VEVENT
BEGIN:VEVENT
DTSTART;VALUE=DATE:20211105
DTEND;VALUE=DATE:20211107
DTSTAMP:20260424T104043
CREATED:20210901T140323Z
LAST-MODIFIED:20211007T031454Z
UID:891-1636070400-1636243199@centervillechurchofchrist.org
SUMMARY:Father/Son Weekend & Skeet Shoot
DESCRIPTION:A weekend planned for Fathers and Sons. Join us for a Campout at the Camp Meribah Spring House\, devotionals\, meals\, and a Saturday Morning Skeet Shoot.
URL:https://centervillechurchofchrist.org/event/father-son-campout-skeet-shoot/
CATEGORIES:Main,Youth
ATTACH;FMTTYPE=image/png:https://centervillechurchofchrist.org/wp-content/uploads/AAD6FAF6-C5B4-40CB-A745-A20605346F8E.png
END:VEVENT
BEGIN:VEVENT
DTSTART;TZID=America/Chicago:20211111T080000
DTEND;TZID=America/Chicago:20211111T170000
DTSTAMP:20260424T104043
CREATED:20210901T140400Z
LAST-MODIFIED:20210901T140400Z
UID:893-1636617600-1636650000@centervillechurchofchrist.org
SUMMARY:Jr. & Sr. High Prayer Breakfast
DESCRIPTION:
URL:https://centervillechurchofchrist.org/event/jr-sr-high-prayer-breakfast/
CATEGORIES:Youth
END:VEVENT
BEGIN:VEVENT
DTSTART;VALUE=DATE:20211113
DTEND;VALUE=DATE:20211114
DTSTAMP:20260424T104043
CREATED:20210901T140423Z
LAST-MODIFIED:20211007T193228Z
UID:895-1636761600-1636847999@centervillechurchofchrist.org
SUMMARY:Servant Sunday
DESCRIPTION:The Jr. & Sr. High students will be traveling around town doing yard work and cleanup for our widows and shut-ins. Contact the office if you are in need of assistance.
URL:https://centervillechurchofchrist.org/event/servant-sunday/
CATEGORIES:Youth
ATTACH;FMTTYPE=image/png:https://centervillechurchofchrist.org/wp-content/uploads/typorama-2-1.png
END:VEVENT
BEGIN:VEVENT
DTSTART;TZID=America/Chicago:20211114T080000
DTEND;TZID=America/Chicago:20211114T170000
DTSTAMP:20260424T104043
CREATED:20210901T140454Z
LAST-MODIFIED:20210901T140454Z
UID:897-1636876800-1636909200@centervillechurchofchrist.org
SUMMARY:Sr. High Fireside (Ashley Shelton)
DESCRIPTION:
URL:https://centervillechurchofchrist.org/event/sr-high-fireside-ashley-shelton/
CATEGORIES:Youth
END:VEVENT
BEGIN:VEVENT
DTSTART;TZID=America/Chicago:20211117T080000
DTEND;TZID=America/Chicago:20211117T170000
DTSTAMP:20260424T104043
CREATED:20210901T140532Z
LAST-MODIFIED:20210901T140532Z
UID:899-1637136000-1637168400@centervillechurchofchrist.org
SUMMARY:Friendsgiving (Maty Hunt)
DESCRIPTION:
URL:https://centervillechurchofchrist.org/event/friendsgiving-maty-hunt/
CATEGORIES:Youth
END:VEVENT
BEGIN:VEVENT
DTSTART;VALUE=DATE:20211121
DTEND;VALUE=DATE:20211122
DTSTAMP:20260424T104043
CREATED:20211007T193637Z
LAST-MODIFIED:20211007T193655Z
UID:1287-1637452800-1637539199@centervillechurchofchrist.org
SUMMARY:Thanksinging
DESCRIPTION:Join us for our annual Thanksinging worship service.
URL:https://centervillechurchofchrist.org/event/thanksinging/
CATEGORIES:Main,Youth
ATTACH;FMTTYPE=image/png:https://centervillechurchofchrist.org/wp-content/uploads/typorama-2.png
END:VEVENT
BEGIN:VEVENT
DTSTART;TZID=America/Chicago:20211121T080000
DTEND;TZID=America/Chicago:20211121T170000
DTSTAMP:20260424T104043
CREATED:20210901T140620Z
LAST-MODIFIED:20210901T140620Z
UID:903-1637481600-1637514000@centervillechurchofchrist.org
SUMMARY:Jr. High Fireside (Wyatt Aydelott)
DESCRIPTION:
URL:https://centervillechurchofchrist.org/event/jr-high-fireside-wyatt-aydelott/
CATEGORIES:Youth
END:VEVENT
BEGIN:VEVENT
DTSTART;VALUE=DATE:20211124
DTEND;VALUE=DATE:20211125
DTSTAMP:20260424T104043
CREATED:20211007T032107Z
LAST-MODIFIED:20211109T150416Z
UID:1268-1637712000-1637798399@centervillechurchofchrist.org
SUMMARY:Thanksgiving Service
DESCRIPTION:Join us for our Thanksgiving-Eve Midweek Service. No Bible Classes.
URL:https://centervillechurchofchrist.org/event/thanksgiving-service/
CATEGORIES:Main
ATTACH;FMTTYPE=image/png:https://centervillechurchofchrist.org/wp-content/uploads/782B5B98-3B9D-4395-8A9E-FB2B2A95D5E1.png
END:VEVENT
BEGIN:VEVENT
DTSTART;VALUE=DATE:20211124
DTEND;VALUE=DATE:20211127
DTSTAMP:20260424T104043
CREATED:20210901T215843Z
LAST-MODIFIED:20210901T215843Z
UID:971-1637712000-1637971199@centervillechurchofchrist.org
SUMMARY:Thanksgiving Break
DESCRIPTION:
URL:https://centervillechurchofchrist.org/event/thanksgiving-break-2/
CATEGORIES:Day School
END:VEVENT
BEGIN:VEVENT
DTSTART;TZID=America/Chicago:20211124T080000
DTEND;TZID=America/Chicago:20211124T170000
DTSTAMP:20260424T104043
CREATED:20210901T140656Z
LAST-MODIFIED:20210901T140700Z
UID:905-1637740800-1637773200@centervillechurchofchrist.org
SUMMARY:Thanksgiving Break
DESCRIPTION:
URL:https://centervillechurchofchrist.org/event/thanksgiving-break/
CATEGORIES:Youth
END:VEVENT
END:VCALENDAR