BEGIN:VCALENDAR
VERSION:2.0
PRODID:-//Centerville Church of Christ - ECPv6.15.20//NONSGML v1.0//EN
CALSCALE:GREGORIAN
METHOD:PUBLISH
X-WR-CALNAME:Centerville Church of Christ
X-ORIGINAL-URL:https://centervillechurchofchrist.org
X-WR-CALDESC:Events for Centerville Church of Christ
REFRESH-INTERVAL;VALUE=DURATION:PT1H
X-Robots-Tag:noindex
X-PUBLISHED-TTL:PT1H
BEGIN:VTIMEZONE
TZID:America/Chicago
BEGIN:DAYLIGHT
TZOFFSETFROM:-0600
TZOFFSETTO:-0500
TZNAME:CDT
DTSTART:20220313T080000
END:DAYLIGHT
BEGIN:STANDARD
TZOFFSETFROM:-0500
TZOFFSETTO:-0600
TZNAME:CST
DTSTART:20221106T070000
END:STANDARD
BEGIN:DAYLIGHT
TZOFFSETFROM:-0600
TZOFFSETTO:-0500
TZNAME:CDT
DTSTART:20230312T080000
END:DAYLIGHT
BEGIN:STANDARD
TZOFFSETFROM:-0500
TZOFFSETTO:-0600
TZNAME:CST
DTSTART:20231105T070000
END:STANDARD
BEGIN:DAYLIGHT
TZOFFSETFROM:-0600
TZOFFSETTO:-0500
TZNAME:CDT
DTSTART:20240310T080000
END:DAYLIGHT
BEGIN:STANDARD
TZOFFSETFROM:-0500
TZOFFSETTO:-0600
TZNAME:CST
DTSTART:20241103T070000
END:STANDARD
END:VTIMEZONE
BEGIN:VEVENT
DTSTART;TZID=America/Chicago:20230121T080000
DTEND;TZID=America/Chicago:20230121T113000
DTSTAMP:20260421T235919
CREATED:20230105T163504Z
LAST-MODIFIED:20230105T163506Z
UID:2282-1674288000-1674300600@centervillechurchofchrist.org
SUMMARY:Men's Leadership Retreat
DESCRIPTION:
URL:https://centervillechurchofchrist.org/event/mens-leadership-retreat/
CATEGORIES:Main
ATTACH;FMTTYPE=image/png:https://centervillechurchofchrist.org/wp-content/uploads/Brown-Minimalist-Nature-April-2023-Desktop-Wallpaper.png
END:VEVENT
END:VCALENDAR